Package: SpatialExperiment Version: 1.16.0 Command: /home/biocbuild/bbs-3.20-bioc/R/bin/R CMD check --install=check:SpatialExperiment.install-out.txt --library=/home/biocbuild/bbs-3.20-bioc/R/site-library --timings SpatialExperiment_1.16.0.tar.gz StartedAt: 2025-02-04 02:43:39 -0500 (Tue, 04 Feb 2025) EndedAt: 2025-02-04 02:47:45 -0500 (Tue, 04 Feb 2025) EllapsedTime: 246.2 seconds RetCode: 0 Status: OK CheckDir: SpatialExperiment.Rcheck Warnings: 0