Package: SpatialExperiment Version: 1.16.0 Command: F:\biocbuild\bbs-3.20-bioc\R\bin\R.exe CMD INSTALL SpatialExperiment StartedAt: 2025-02-03 16:34:49 -0500 (Mon, 03 Feb 2025) EndedAt: 2025-02-03 16:36:43 -0500 (Mon, 03 Feb 2025) EllapsedTime: 113.7 seconds RetCode: 0 Status: OK