Package: SpatialExperiment Version: 1.16.0 Command: /home/biocbuild/R/R/bin/R CMD build --keep-empty-dirs --no-resave-data SpatialExperiment StartedAt: 2025-02-18 03:01:54 -0000 (Tue, 18 Feb 2025) EndedAt: 2025-02-18 03:03:07 -0000 (Tue, 18 Feb 2025) EllapsedTime: 73.1 seconds RetCode: 0 Status: OK PackageFile: SpatialExperiment_1.16.0.tar.gz PackageFileSize: 3.696 <A href="http://en.wikipedia.org/wiki/MiB" target="_blank">MiB</A>