Package: SpatialExperiment Version: 1.16.0 Command: /home/biocbuild/R/R/bin/R CMD INSTALL SpatialExperiment StartedAt: 2025-02-03 20:35:23 -0000 (Mon, 03 Feb 2025) EndedAt: 2025-02-03 20:35:54 -0000 (Mon, 03 Feb 2025) EllapsedTime: 30.6 seconds RetCode: 0 Status: OK