Package: SpatialFeatureExperiment Version: 1.8.6 Command: rm -rf SpatialFeatureExperiment.buildbin-libdir && mkdir SpatialFeatureExperiment.buildbin-libdir && /Users/biocbuild/BBS/utils/build-universal.sh SpatialFeatureExperiment_1.8.6.tar.gz /Library/Frameworks/R.framework/Resources/bin/R SpatialFeatureExperiment.buildbin-libdir StartedAt: 2025-01-31 13:45:58 -0500 (Fri, 31 Jan 2025) EndedAt: 2025-01-31 13:48:16 -0500 (Fri, 31 Jan 2025) EllapsedTime: 138.5 seconds RetCode: 0 Status: OK PackageFile: SpatialFeatureExperiment_1.8.6.tgz PackageFileSize: 2.873 MiB