Package: SpatialFeatureExperiment Version: 1.8.6 Command: /home/biocbuild/bbs-3.20-bioc/R/bin/R CMD check --install=check:SpatialFeatureExperiment.install-out.txt --library=/home/biocbuild/bbs-3.20-bioc/R/site-library --timings SpatialFeatureExperiment_1.8.6.tar.gz StartedAt: 2025-02-04 02:43:58 -0500 (Tue, 04 Feb 2025) EndedAt: 2025-02-04 03:04:10 -0500 (Tue, 04 Feb 2025) EllapsedTime: 1212.2 seconds RetCode: 0 Status: OK CheckDir: SpatialFeatureExperiment.Rcheck Warnings: 0