Package: SpatialFeatureExperiment Version: 1.8.6 Command: rm -rf SpatialFeatureExperiment.buildbin-libdir && mkdir SpatialFeatureExperiment.buildbin-libdir && F:\biocbuild\bbs-3.20-bioc\R\bin\R.exe CMD INSTALL --build --library=SpatialFeatureExperiment.buildbin-libdir SpatialFeatureExperiment_1.8.6.tar.gz StartedAt: 2025-02-04 09:34:52 -0500 (Tue, 04 Feb 2025) EndedAt: 2025-02-04 09:48:03 -0500 (Tue, 04 Feb 2025) EllapsedTime: 791.7 seconds RetCode: 0 Status: OK PackageFile: SpatialFeatureExperiment_1.8.6.zip PackageFileSize: 2.676 MiB