Package: SpatialFeatureExperiment
Version: 1.8.2
Command: /home/biocbuild/bbs-3.20-bioc/R/bin/R CMD INSTALL SpatialFeatureExperiment
StartedAt: 2024-11-19 16:24:13 -0500 (Tue, 19 Nov 2024)
EndedAt: 2024-11-19 16:24:58 -0500 (Tue, 19 Nov 2024)
EllapsedTime: 45.2 seconds
RetCode: 0
Status: OK