Package: SpeCond Version: 1.60.0 Command: rm -rf SpeCond.buildbin-libdir && mkdir SpeCond.buildbin-libdir && /Users/biocbuild/BBS/utils/build-universal.sh SpeCond_1.60.0.tar.gz /Library/Frameworks/R.framework/Resources/bin/R SpeCond.buildbin-libdir StartedAt: 2025-02-01 17:01:45 -0500 (Sat, 01 Feb 2025) EndedAt: 2025-02-01 17:01:55 -0500 (Sat, 01 Feb 2025) EllapsedTime: 10.3 seconds RetCode: 0 Status: OK PackageFile: SpeCond_1.60.0.tgz PackageFileSize: 1.191 MiB