Package: SpeCond Version: 1.60.0 Command: /Library/Frameworks/R.framework/Resources/bin/R CMD check --install=check:SpeCond.install-out.txt --library=/Library/Frameworks/R.framework/Resources/library --no-vignettes --timings SpeCond_1.60.0.tar.gz StartedAt: 2025-02-01 10:25:13 -0500 (Sat, 01 Feb 2025) EndedAt: 2025-02-01 10:26:38 -0500 (Sat, 01 Feb 2025) EllapsedTime: 85.0 seconds RetCode: 0 Status: OK CheckDir: SpeCond.Rcheck Warnings: 0