Package: SpeCond Version: 1.60.0 Command: rm -rf SpeCond.buildbin-libdir && mkdir SpeCond.buildbin-libdir && /Users/biocbuild/BBS/utils/build-universal.sh SpeCond_1.60.0.tar.gz /Library/Frameworks/R.framework/Resources/bin/R SpeCond.buildbin-libdir StartedAt: 2024-11-09 17:13:36 -0500 (Sat, 09 Nov 2024) EndedAt: 2024-11-09 17:13:39 -0500 (Sat, 09 Nov 2024) EllapsedTime: 3.0 seconds RetCode: 0 Status: OK PackageFile: SpeCond_1.60.0.tgz PackageFileSize: 1.192 MiB