Package: SpeCond Version: 1.60.0 Command: /Library/Frameworks/R.framework/Resources/bin/R CMD check --install=check:SpeCond.install-out.txt --library=/Library/Frameworks/R.framework/Resources/library --no-vignettes --timings SpeCond_1.60.0.tar.gz StartedAt: 2024-11-09 14:04:03 -0500 (Sat, 09 Nov 2024) EndedAt: 2024-11-09 14:08:12 -0500 (Sat, 09 Nov 2024) EllapsedTime: 249.5 seconds RetCode: 0 Status: OK CheckDir: SpeCond.Rcheck Warnings: 0