Package: SpeCond Version: 1.60.0 Command: /home/biocbuild/R/R/bin/R CMD build --keep-empty-dirs --no-resave-data SpeCond StartedAt: 2024-11-20 04:10:49 -0000 (Wed, 20 Nov 2024) EndedAt: 2024-11-20 04:11:52 -0000 (Wed, 20 Nov 2024) EllapsedTime: 63.1 seconds RetCode: 0 Status: OK PackageFile: SpeCond_1.60.0.tar.gz PackageFileSize: 1.697 MiB