Package: SpeCond Version: 1.60.0 Command: /Library/Frameworks/R.framework/Resources/bin/R CMD build --keep-empty-dirs --no-resave-data SpeCond StartedAt: 2024-11-19 18:47:30 -0500 (Tue, 19 Nov 2024) EndedAt: 2024-11-19 18:48:28 -0500 (Tue, 19 Nov 2024) EllapsedTime: 58.0 seconds RetCode: 0 Status: OK PackageFile: SpeCond_1.60.0.tar.gz PackageFileSize: 1.699 MiB