Package: SpeCond Version: 1.60.0 Command: /Library/Frameworks/R.framework/Resources/bin/R CMD build --keep-empty-dirs --no-resave-data SpeCond StartedAt: 2025-01-30 23:07:06 -0500 (Thu, 30 Jan 2025) EndedAt: 2025-01-30 23:08:50 -0500 (Thu, 30 Jan 2025) EllapsedTime: 104.8 seconds RetCode: 0 Status: OK PackageFile: SpeCond_1.60.0.tar.gz PackageFileSize: 1.699 MiB