Package: SpeCond Version: 1.60.0 Command: /Library/Frameworks/R.framework/Resources/bin/R CMD check --install=check:SpeCond.install-out.txt --library=/Library/Frameworks/R.framework/Resources/library --no-vignettes --timings SpeCond_1.60.0.tar.gz StartedAt: 2025-01-31 10:29:32 -0500 (Fri, 31 Jan 2025) EndedAt: 2025-01-31 10:32:22 -0500 (Fri, 31 Jan 2025) EllapsedTime: 169.4 seconds RetCode: 0 Status: OK CheckDir: SpeCond.Rcheck Warnings: 0