Package: SpeCond Version: 1.60.0 Command: /home/biocbuild/bbs-3.20-bioc/R/bin/R CMD build --keep-empty-dirs --no-resave-data --md5 SpeCond StartedAt: 2025-01-30 19:17:57 -0500 (Thu, 30 Jan 2025) EndedAt: 2025-01-30 19:18:42 -0500 (Thu, 30 Jan 2025) EllapsedTime: 45.1 seconds RetCode: 0 Status: OK PackageFile: SpeCond_1.60.0.tar.gz PackageFileSize: 1.7 MiB