Package: SpeCond Version: 1.60.0 Command: chmod a+r SpeCond -R && F:\biocbuild\bbs-3.20-bioc\R\bin\R.exe CMD build --keep-empty-dirs --no-resave-data SpeCond StartedAt: 2025-01-30 22:02:59 -0500 (Thu, 30 Jan 2025) EndedAt: 2025-01-30 22:04:10 -0500 (Thu, 30 Jan 2025) EllapsedTime: 70.4 seconds RetCode: 0 Status: OK PackageFile: SpeCond_1.60.0.tar.gz PackageFileSize: 1.701 MiB