Package: SpeCond Version: 1.60.0 Command: /home/biocbuild/R/R/bin/R CMD INSTALL SpeCond StartedAt: 2025-01-30 20:14:03 -0000 (Thu, 30 Jan 2025) EndedAt: 2025-01-30 20:14:12 -0000 (Thu, 30 Jan 2025) EllapsedTime: 8.9 seconds RetCode: 0 Status: OK