Package: Spectra Version: 1.16.0 Command: rm -rf Spectra.buildbin-libdir && mkdir Spectra.buildbin-libdir && /Users/biocbuild/BBS/utils/build-universal.sh Spectra_1.16.0.tar.gz /Library/Frameworks/R.framework/Resources/bin/R Spectra.buildbin-libdir StartedAt: 2025-02-01 17:01:51 -0500 (Sat, 01 Feb 2025) EndedAt: 2025-02-01 17:02:10 -0500 (Sat, 01 Feb 2025) EllapsedTime: 19.4 seconds RetCode: 0 Status: OK PackageFile: Spectra_1.16.0.tgz PackageFileSize: 2.074 MiB