Package: Spectra Version: 1.16.0 Command: /Library/Frameworks/R.framework/Resources/bin/R CMD check --install=check:Spectra.install-out.txt --library=/Library/Frameworks/R.framework/Resources/library --no-vignettes --timings Spectra_1.16.0.tar.gz StartedAt: 2025-02-01 10:25:55 -0500 (Sat, 01 Feb 2025) EndedAt: 2025-02-01 10:35:43 -0500 (Sat, 01 Feb 2025) EllapsedTime: 588.5 seconds RetCode: 0 Status: OK CheckDir: Spectra.Rcheck Warnings: 0