Package: Spectra Version: 1.16.0 Command: rm -rf Spectra.buildbin-libdir && mkdir Spectra.buildbin-libdir && /Users/biocbuild/BBS/utils/build-universal.sh Spectra_1.16.0.tar.gz /Library/Frameworks/R.framework/Resources/bin/R Spectra.buildbin-libdir StartedAt: 2025-01-31 13:46:40 -0500 (Fri, 31 Jan 2025) EndedAt: 2025-01-31 13:47:17 -0500 (Fri, 31 Jan 2025) EllapsedTime: 37.9 seconds RetCode: 0 Status: OK PackageFile: Spectra_1.16.0.tgz PackageFileSize: 2.073 MiB