Package: Spectra Version: 1.16.0 Command: /Library/Frameworks/R.framework/Resources/bin/R CMD build --keep-empty-dirs --no-resave-data Spectra StartedAt: 2025-01-30 23:07:18 -0500 (Thu, 30 Jan 2025) EndedAt: 2025-01-30 23:09:16 -0500 (Thu, 30 Jan 2025) EllapsedTime: 118.0 seconds RetCode: 0 Status: OK PackageFile: Spectra_1.16.0.tar.gz PackageFileSize: 1.513 MiB