Package: Spectra Version: 1.16.0 Command: /Library/Frameworks/R.framework/Resources/bin/R CMD check --install=check:Spectra.install-out.txt --library=/Library/Frameworks/R.framework/Resources/library --no-vignettes --timings Spectra_1.16.0.tar.gz StartedAt: 2025-01-31 10:30:51 -0500 (Fri, 31 Jan 2025) EndedAt: 2025-01-31 10:48:37 -0500 (Fri, 31 Jan 2025) EllapsedTime: 1066.1 seconds RetCode: 0 Status: OK CheckDir: Spectra.Rcheck Warnings: 0