Package: Spectra Version: 1.16.0 Command: /home/biocbuild/bbs-3.20-bioc/R/bin/R CMD build --keep-empty-dirs --no-resave-data --md5 Spectra StartedAt: 2025-01-30 19:17:59 -0500 (Thu, 30 Jan 2025) EndedAt: 2025-01-30 19:18:48 -0500 (Thu, 30 Jan 2025) EllapsedTime: 49.1 seconds RetCode: 0 Status: OK PackageFile: Spectra_1.16.0.tar.gz PackageFileSize: 1.807 MiB