Package: Spectra Version: 1.16.0 Command: /home/biocbuild/bbs-3.20-bioc/R/bin/R CMD INSTALL Spectra StartedAt: 2025-01-30 15:16:22 -0500 (Thu, 30 Jan 2025) EndedAt: 2025-01-30 15:16:36 -0500 (Thu, 30 Jan 2025) EllapsedTime: 13.9 seconds RetCode: 0 Status: OK