Package: Spectra Version: 1.16.0 Command: rm -rf Spectra.buildbin-libdir && mkdir Spectra.buildbin-libdir && F:\biocbuild\bbs-3.20-bioc\R\bin\R.exe CMD INSTALL --build --library=Spectra.buildbin-libdir Spectra_1.16.0.tar.gz StartedAt: 2025-01-31 09:42:00 -0500 (Fri, 31 Jan 2025) EndedAt: 2025-01-31 09:43:28 -0500 (Fri, 31 Jan 2025) EllapsedTime: 88.3 seconds RetCode: 0 Status: OK PackageFile: Spectra_1.16.0.zip PackageFileSize: 1.982 MiB