Package: Spectra Version: 1.16.0 Command: chmod a+r Spectra -R && F:\biocbuild\bbs-3.20-bioc\R\bin\R.exe CMD build --keep-empty-dirs --no-resave-data Spectra StartedAt: 2025-01-30 22:03:13 -0500 (Thu, 30 Jan 2025) EndedAt: 2025-01-30 22:05:20 -0500 (Thu, 30 Jan 2025) EllapsedTime: 126.8 seconds RetCode: 0 Status: OK PackageFile: Spectra_1.16.0.tar.gz PackageFileSize: 1.405 MiB