Package: Spectra Version: 1.16.0 Command: F:\biocbuild\bbs-3.20-bioc\R\bin\R.exe CMD INSTALL Spectra StartedAt: 2025-01-30 15:38:09 -0500 (Thu, 30 Jan 2025) EndedAt: 2025-01-30 15:39:29 -0500 (Thu, 30 Jan 2025) EllapsedTime: 79.4 seconds RetCode: 0 Status: OK