Package: Spectra Version: 1.16.0 Command: /home/biocbuild/R/R/bin/R CMD check --install=check:Spectra.install-out.txt --library=/home/biocbuild/R/R/site-library --no-vignettes --timings Spectra_1.16.0.tar.gz StartedAt: 2025-01-31 10:40:07 -0000 (Fri, 31 Jan 2025) EndedAt: 2025-01-31 11:20:07 -0000 (Fri, 31 Jan 2025) EllapsedTime: 2400.0 seconds RetCode: None Status: TIMEOUT CheckDir: Spectra.Rcheck Warnings: NA