Package: Spectra Version: 1.16.0 Command: /home/biocbuild/R/R/bin/R CMD INSTALL Spectra StartedAt: 2025-01-30 20:20:40 -0000 (Thu, 30 Jan 2025) EndedAt: 2025-01-30 20:20:59 -0000 (Thu, 30 Jan 2025) EllapsedTime: 18.7 seconds RetCode: 0 Status: OK