Package: SplicingFactory Version: 1.14.0 Command: /Library/Frameworks/R.framework/Resources/bin/R CMD build --keep-empty-dirs --no-resave-data SplicingFactory StartedAt: 2025-02-04 09:01:34 -0500 (Tue, 04 Feb 2025) EndedAt: 2025-02-04 09:02:17 -0500 (Tue, 04 Feb 2025) EllapsedTime: 42.3 seconds RetCode: 0 Status: OK PackageFile: SplicingFactory_1.14.0.tar.gz PackageFileSize: 791.1 KiB