Package: SplicingFactory Version: 1.14.0 Command: /Library/Frameworks/R.framework/Resources/bin/R CMD INSTALL SplicingFactory StartedAt: 2025-02-03 15:31:08 -0500 (Mon, 03 Feb 2025) EndedAt: 2025-02-03 15:32:01 -0500 (Mon, 03 Feb 2025) EllapsedTime: 53.1 seconds RetCode: 0 Status: OK