Package: SplicingFactory Version: 1.14.0 Command: /home/biocbuild/bbs-3.20-bioc/R/bin/R CMD INSTALL SplicingFactory StartedAt: 2025-02-03 15:24:20 -0500 (Mon, 03 Feb 2025) EndedAt: 2025-02-03 15:24:39 -0500 (Mon, 03 Feb 2025) EllapsedTime: 18.8 seconds RetCode: 0 Status: OK