Package: SplicingFactory
Version: 1.13.0
Command: rm -rf SplicingFactory.buildbin-libdir && mkdir SplicingFactory.buildbin-libdir && F:\biocbuild\bbs-3.20-bioc\R\bin\R.exe CMD INSTALL --build --library=SplicingFactory.buildbin-libdir SplicingFactory_1.13.0.tar.gz
StartedAt: 2024-06-10 15:15:10 -0400 (Mon, 10 Jun 2024)
EndedAt: 2024-06-10 15:16:29 -0400 (Mon, 10 Jun 2024)
EllapsedTime: 79.1 seconds
RetCode: 0
Status: OK
PackageFile: SplicingFactory_1.13.0.zip
PackageFileSize: 467.7 <A href="http://en.wikipedia.org/wiki/KiB" target="_blank">KiB</A>