Package: SplicingFactory Version: 1.14.0 Command: /home/biocbuild/R/R/bin/R CMD INSTALL SplicingFactory StartedAt: 2025-02-03 20:34:34 -0000 (Mon, 03 Feb 2025) EndedAt: 2025-02-03 20:34:59 -0000 (Mon, 03 Feb 2025) EllapsedTime: 25.2 seconds RetCode: 0 Status: OK