Package: SplicingGraphs Version: 1.46.0 Command: rm -rf SplicingGraphs.buildbin-libdir && mkdir SplicingGraphs.buildbin-libdir && /Users/biocbuild/BBS/utils/build-universal.sh SplicingGraphs_1.46.0.tar.gz /Library/Frameworks/R.framework/Resources/bin/R SplicingGraphs.buildbin-libdir StartedAt: 2025-02-05 17:58:12 -0500 (Wed, 05 Feb 2025) EndedAt: 2025-02-05 17:59:08 -0500 (Wed, 05 Feb 2025) EllapsedTime: 55.4 seconds RetCode: 0 Status: OK PackageFile: SplicingGraphs_1.46.0.tgz PackageFileSize: 4.815 MiB