Package: SplicingGraphs
Version: 1.46.0
Command: /Library/Frameworks/R.framework/Resources/bin/R CMD build --keep-empty-dirs --no-resave-data SplicingGraphs
StartedAt: 2024-11-19 18:48:59 -0500 (Tue, 19 Nov 2024)
EndedAt: 2024-11-19 18:51:56 -0500 (Tue, 19 Nov 2024)
EllapsedTime: 177.7 seconds
RetCode: 0
Status: OK
PackageFile: SplicingGraphs_1.46.0.tar.gz
PackageFileSize: 46.1 <A href="http://en.wikipedia.org/wiki/MiB" target="_blank">MiB</A>