Package: SplicingGraphs Version: 1.46.0 Command: /Library/Frameworks/R.framework/Resources/bin/R CMD check --install=check:SplicingGraphs.install-out.txt --library=/Library/Frameworks/R.framework/Resources/library --no-vignettes --timings SplicingGraphs_1.46.0.tar.gz StartedAt: 2025-02-04 10:41:05 -0500 (Tue, 04 Feb 2025) EndedAt: 2025-02-04 10:56:07 -0500 (Tue, 04 Feb 2025) EllapsedTime: 902.1 seconds RetCode: 0 Status: WARNINGS CheckDir: SplicingGraphs.Rcheck Warnings: 2