Package: SplicingGraphs Version: 1.45.0 Command: F:\biocbuild\bbs-3.20-bioc\R\bin\R.exe CMD check --no-multiarch --install=check:SplicingGraphs.install-out.txt --library=F:\biocbuild\bbs-3.20-bioc\R\library --no-vignettes --timings SplicingGraphs_1.45.0.tar.gz StartedAt: 2024-06-10 10:26:30 -0400 (Mon, 10 Jun 2024) EndedAt: 2024-06-10 10:53:47 -0400 (Mon, 10 Jun 2024) EllapsedTime: 1636.7 seconds RetCode: 0 Status: WARNINGS CheckDir: SplicingGraphs.Rcheck Warnings: 2