Package: SplicingGraphs Version: 1.46.0 Command: /home/biocbuild/R/R/bin/R CMD INSTALL SplicingGraphs StartedAt: 2025-02-03 20:41:02 -0000 (Mon, 03 Feb 2025) EndedAt: 2025-02-03 20:41:54 -0000 (Mon, 03 Feb 2025) EllapsedTime: 52.2 seconds RetCode: 0 Status: OK