Package: SpotClean Version: 1.8.0 Command: /Library/Frameworks/R.framework/Resources/bin/R CMD INSTALL SpotClean StartedAt: 2025-02-03 17:27:50 -0500 (Mon, 03 Feb 2025) EndedAt: 2025-02-03 17:28:34 -0500 (Mon, 03 Feb 2025) EllapsedTime: 44.5 seconds RetCode: 0 Status: OK