Package: SpotClean Version: 1.8.0 Command: /Library/Frameworks/R.framework/Resources/bin/R CMD check --install=check:SpotClean.install-out.txt --library=/Library/Frameworks/R.framework/Resources/library --no-vignettes --timings SpotClean_1.8.0.tar.gz StartedAt: 2025-02-04 10:43:54 -0500 (Tue, 04 Feb 2025) EndedAt: 2025-02-04 10:59:22 -0500 (Tue, 04 Feb 2025) EllapsedTime: 927.5 seconds RetCode: 0 Status: OK CheckDir: SpotClean.Rcheck Warnings: 0