Package: SpotClean Version: 1.8.0 Command: /home/biocbuild/bbs-3.20-bioc/R/bin/R CMD check --install=check:SpotClean.install-out.txt --library=/home/biocbuild/bbs-3.20-bioc/R/site-library --timings SpotClean_1.8.0.tar.gz StartedAt: 2025-02-04 02:51:26 -0500 (Tue, 04 Feb 2025) EndedAt: 2025-02-04 03:05:02 -0500 (Tue, 04 Feb 2025) EllapsedTime: 815.8 seconds RetCode: 0 Status: OK CheckDir: SpotClean.Rcheck Warnings: 0