Package: SpotClean Version: 1.8.0 Command: /home/biocbuild/bbs-3.20-bioc/R/bin/R CMD INSTALL SpotClean StartedAt: 2025-02-03 15:55:22 -0500 (Mon, 03 Feb 2025) EndedAt: 2025-02-03 15:56:04 -0500 (Mon, 03 Feb 2025) EllapsedTime: 42.1 seconds RetCode: 0 Status: OK