Package: SpotClean Version: 1.8.0 Command: chmod a+r SpotClean -R && F:\biocbuild\bbs-3.20-bioc\R\bin\R.exe CMD build --keep-empty-dirs --no-resave-data SpotClean StartedAt: 2025-02-03 22:22:40 -0500 (Mon, 03 Feb 2025) EndedAt: 2025-02-03 22:27:19 -0500 (Mon, 03 Feb 2025) EllapsedTime: 279.7 seconds RetCode: 0 Status: OK PackageFile: SpotClean_1.8.0.tar.gz PackageFileSize: 2.364 MiB