Package: SpotClean Version: 1.8.0 Command: F:\biocbuild\bbs-3.20-bioc\R\bin\R.exe CMD INSTALL SpotClean StartedAt: 2025-02-03 16:45:59 -0500 (Mon, 03 Feb 2025) EndedAt: 2025-02-03 16:46:56 -0500 (Mon, 03 Feb 2025) EllapsedTime: 57.0 seconds RetCode: 0 Status: OK