Package: SpotSweeper Version: 1.2.0 Command: /Library/Frameworks/R.framework/Resources/bin/R CMD build --keep-empty-dirs --no-resave-data SpotSweeper StartedAt: 2025-01-30 23:10:43 -0500 (Thu, 30 Jan 2025) EndedAt: 2025-01-30 23:16:20 -0500 (Thu, 30 Jan 2025) EllapsedTime: 336.7 seconds RetCode: 0 Status: OK PackageFile: SpotSweeper_1.2.0.tar.gz PackageFileSize: 3.921 MiB