Package: SpotSweeper Version: 1.2.0 Command: /Library/Frameworks/R.framework/Resources/bin/R CMD check --install=check:SpotSweeper.install-out.txt --library=/Library/Frameworks/R.framework/Resources/library --no-vignettes --timings SpotSweeper_1.2.0.tar.gz StartedAt: 2025-01-31 10:40:36 -0500 (Fri, 31 Jan 2025) EndedAt: 2025-01-31 10:57:00 -0500 (Fri, 31 Jan 2025) EllapsedTime: 984.8 seconds RetCode: 0 Status: OK CheckDir: SpotSweeper.Rcheck Warnings: 0