Package: SpotSweeper Version: 1.2.0 Command: /home/biocbuild/R/R/bin/R CMD build --keep-empty-dirs --no-resave-data SpotSweeper StartedAt: 2025-01-31 02:57:59 -0000 (Fri, 31 Jan 2025) EndedAt: 2025-01-31 02:58:00 -0000 (Fri, 31 Jan 2025) EllapsedTime: 1.0 seconds RetCode: 1 Status: ERROR PackageFile: None PackageFileSize: NA